Workbook

Sheet Паспорт
A1: Сведения о проекте
A2: PMHub.ru
A4: Параметр | B4: Значение
A5: Проект
A6: Руководитель
A7: Дата
A10: Заполняйте рабочий лист, затем просматривайте автоматические расчёты и сводку.
A13: Навигация по разделам
A14: Риски
A15: Карта рисков
A16: Дашборд

Sheet Риски
A1: Тепловая карта рисков проекта
A2: PMHub.ru
A4: ID | B4: Риск | C4: Вероятность (1–5) | D4: Влияние (1–5) | E4: Балл риска | F4: Статус | G4: Владелец | H4: Меры реагирования
E5: =IF(OR(C5="",D5=""),"",C5*D5)
E6: =IF(OR(C6="",D6=""),"",C6*D6)
E7: =IF(OR(C7="",D7=""),"",C7*D7)
E8: =IF(OR(C8="",D8=""),"",C8*D8)
E9: =IF(OR(C9="",D9=""),"",C9*D9)
E10: =IF(OR(C10="",D10=""),"",C10*D10)
E11: =IF(OR(C11="",D11=""),"",C11*D11)
E12: =IF(OR(C12="",D12=""),"",C12*D12)
E13: =IF(OR(C13="",D13=""),"",C13*D13)
E14: =IF(OR(C14="",D14=""),"",C14*D14)
E15: =IF(OR(C15="",D15=""),"",C15*D15)
E16: =IF(OR(C16="",D16=""),"",C16*D16)

Sheet Карта рисков
A1: Карта рисков
A2: PMHub.ru
A4: Вероятность | B4: 1 | C4: 2 | D4: 3 | E4: 4 | F4: 5
A5: 5 | B5: =COUNTIFS('Риски'!$C$5:$C$150,$A5,'Риски'!$D$5:$D$150,1) | C5: =COUNTIFS('Риски'!$C$5:$C$150,$A5,'Риски'!$D$5:$D$150,2) | D5: =COUNTIFS('Риски'!$C$5:$C$150,$A5,'Риски'!$D$5:$D$150,3) | E5: =COUNTIFS('Риски'!$C$5:$C$150,$A5,'Риски'!$D$5:$D$150,4) | F5: =COUNTIFS('Риски'!$C$5:$C$150,$A5,'Риски'!$D$5:$D$150,5)
A6: 4 | B6: =COUNTIFS('Риски'!$C$5:$C$150,$A6,'Риски'!$D$5:$D$150,1) | C6: =COUNTIFS('Риски'!$C$5:$C$150,$A6,'Риски'!$D$5:$D$150,2) | D6: =COUNTIFS('Риски'!$C$5:$C$150,$A6,'Риски'!$D$5:$D$150,3) | E6: =COUNTIFS('Риски'!$C$5:$C$150,$A6,'Риски'!$D$5:$D$150,4) | F6: =COUNTIFS('Риски'!$C$5:$C$150,$A6,'Риски'!$D$5:$D$150,5)
A7: 3 | B7: =COUNTIFS('Риски'!$C$5:$C$150,$A7,'Риски'!$D$5:$D$150,1) | C7: =COUNTIFS('Риски'!$C$5:$C$150,$A7,'Риски'!$D$5:$D$150,2) | D7: =COUNTIFS('Риски'!$C$5:$C$150,$A7,'Риски'!$D$5:$D$150,3) | E7: =COUNTIFS('Риски'!$C$5:$C$150,$A7,'Риски'!$D$5:$D$150,4) | F7: =COUNTIFS('Риски'!$C$5:$C$150,$A7,'Риски'!$D$5:$D$150,5)
A8: 2 | B8: =COUNTIFS('Риски'!$C$5:$C$150,$A8,'Риски'!$D$5:$D$150,1) | C8: =COUNTIFS('Риски'!$C$5:$C$150,$A8,'Риски'!$D$5:$D$150,2) | D8: =COUNTIFS('Риски'!$C$5:$C$150,$A8,'Риски'!$D$5:$D$150,3) | E8: =COUNTIFS('Риски'!$C$5:$C$150,$A8,'Риски'!$D$5:$D$150,4) | F8: =COUNTIFS('Риски'!$C$5:$C$150,$A8,'Риски'!$D$5:$D$150,5)
A9: 1 | B9: =COUNTIFS('Риски'!$C$5:$C$150,$A9,'Риски'!$D$5:$D$150,1) | C9: =COUNTIFS('Риски'!$C$5:$C$150,$A9,'Риски'!$D$5:$D$150,2) | D9: =COUNTIFS('Риски'!$C$5:$C$150,$A9,'Риски'!$D$5:$D$150,3) | E9: =COUNTIFS('Риски'!$C$5:$C$150,$A9,'Риски'!$D$5:$D$150,4) | F9: =COUNTIFS('Риски'!$C$5:$C$150,$A9,'Риски'!$D$5:$D$150,5)
A12: Цвет ячейки отражает произведение оценки вероятности и влияния, число — количество рисков.

Sheet Дашборд
A1: Сводка по статусам
A2: PMHub.ru
A3: Сводка рассчитывается из основного реестра. Изменяйте записи на рабочем листе.
A5: Всего записей | G5: Категорий
A6: =COUNTA('Риски'!$A$5:$A$150) -> 0 | G6: =COUNTIF($D$11:$D$13,">0") -> 0
A9: Распределение по категориям
A11: Открыт | D11: =COUNTIF('Риски'!$F$5:$F$150,"Открыт") -> 0
A12: В работе | D12: =COUNTIF('Риски'!$F$5:$F$150,"В работе") -> 0
A13: Закрыт | D13: =COUNTIF('Риски'!$F$5:$F$150,"Закрыт") -> 0
