Workbook

Sheet Overview
A1: Project Information
A2: PMHub.me
A4: Parameter | B4: Value
A5: Project
A6: Project Manager
A7: Date
A8: Monetary unit (currency and scale)
A11: The original baseline remains unchanged. The Approved Changes column is calculated from the change request register.
A12: Only Approved requests with both a decision date and an approver affect the baseline.
A13: Use the currency and scale specified in the project overview.
A16: Worksheet navigation
A17: Cost Baseline
A18: Change Requests
A19: Dashboard

Sheet Cost Baseline
A1: Project Cost Baseline
A2: PMHub.me
A4: ID | B4: Phase | C4: Cost Category | D4: Owner | E4: Original Baseline | F4: Approved Changes | G4: Revised Baseline | H4: Actual | I4: Actual Variance | J4: Status
F5: =SUMIFS('Change Requests'!$D$5:$D$104,'Change Requests'!$B$5:$B$104,A5,'Change Requests'!$H$5:$H$104,"Approved",'Change Requests'!$F$5:$F$104,"<>",'Change Requests'!$G$5:$G$104,"<>") | G5: =E5+F5 | I5: =H5-G5
F6: =SUMIFS('Change Requests'!$D$5:$D$104,'Change Requests'!$B$5:$B$104,A6,'Change Requests'!$H$5:$H$104,"Approved",'Change Requests'!$F$5:$F$104,"<>",'Change Requests'!$G$5:$G$104,"<>") | G6: =E6+F6 | I6: =H6-G6
F7: =SUMIFS('Change Requests'!$D$5:$D$104,'Change Requests'!$B$5:$B$104,A7,'Change Requests'!$H$5:$H$104,"Approved",'Change Requests'!$F$5:$F$104,"<>",'Change Requests'!$G$5:$G$104,"<>") | G7: =E7+F7 | I7: =H7-G7
F8: =SUMIFS('Change Requests'!$D$5:$D$104,'Change Requests'!$B$5:$B$104,A8,'Change Requests'!$H$5:$H$104,"Approved",'Change Requests'!$F$5:$F$104,"<>",'Change Requests'!$G$5:$G$104,"<>") | G8: =E8+F8 | I8: =H8-G8
F9: =SUMIFS('Change Requests'!$D$5:$D$104,'Change Requests'!$B$5:$B$104,A9,'Change Requests'!$H$5:$H$104,"Approved",'Change Requests'!$F$5:$F$104,"<>",'Change Requests'!$G$5:$G$104,"<>") | G9: =E9+F9 | I9: =H9-G9
F10: =SUMIFS('Change Requests'!$D$5:$D$104,'Change Requests'!$B$5:$B$104,A10,'Change Requests'!$H$5:$H$104,"Approved",'Change Requests'!$F$5:$F$104,"<>",'Change Requests'!$G$5:$G$104,"<>") | G10: =E10+F10 | I10: =H10-G10
F11: =SUMIFS('Change Requests'!$D$5:$D$104,'Change Requests'!$B$5:$B$104,A11,'Change Requests'!$H$5:$H$104,"Approved",'Change Requests'!$F$5:$F$104,"<>",'Change Requests'!$G$5:$G$104,"<>") | G11: =E11+F11 | I11: =H11-G11
F12: =SUMIFS('Change Requests'!$D$5:$D$104,'Change Requests'!$B$5:$B$104,A12,'Change Requests'!$H$5:$H$104,"Approved",'Change Requests'!$F$5:$F$104,"<>",'Change Requests'!$G$5:$G$104,"<>") | G12: =E12+F12 | I12: =H12-G12
F13: =SUMIFS('Change Requests'!$D$5:$D$104,'Change Requests'!$B$5:$B$104,A13,'Change Requests'!$H$5:$H$104,"Approved",'Change Requests'!$F$5:$F$104,"<>",'Change Requests'!$G$5:$G$104,"<>") | G13: =E13+F13 | I13: =H13-G13
F14: =SUMIFS('Change Requests'!$D$5:$D$104,'Change Requests'!$B$5:$B$104,A14,'Change Requests'!$H$5:$H$104,"Approved",'Change Requests'!$F$5:$F$104,"<>",'Change Requests'!$G$5:$G$104,"<>") | G14: =E14+F14 | I14: =H14-G14
F15: =SUMIFS('Change Requests'!$D$5:$D$104,'Change Requests'!$B$5:$B$104,A15,'Change Requests'!$H$5:$H$104,"Approved",'Change Requests'!$F$5:$F$104,"<>",'Change Requests'!$G$5:$G$104,"<>") | G15: =E15+F15 | I15: =H15-G15
F16: =SUMIFS('Change Requests'!$D$5:$D$104,'Change Requests'!$B$5:$B$104,A16,'Change Requests'!$H$5:$H$104,"Approved",'Change Requests'!$F$5:$F$104,"<>",'Change Requests'!$G$5:$G$104,"<>") | G16: =E16+F16 | I16: =H16-G16

Sheet Change Requests
A1: Budget Change Request Register
A2: PMHub.me
A4: No. | B4: Request ID | C4: Baseline Item ID | D4: Change Reason | E4: Change Amount | F4: Request Date | G4: Decision Date | H4: Approver | I4: Request Status
A5: 1
A6: 2
A7: 3
A8: 4
A9: 5
A10: 6
A11: 7
A12: 8
A13: 9
A14: 10
A15: 11
A16: 12
... A29: 25
A32: Positive amounts increase the budget; negative amounts decrease it. Retain all requests for audit.
A33: Only Approved requests with a decision date and approver change the revised baseline.

Sheet Dashboard
A1: Entry Status Summary
A2: PMHub.me
A3: Summary uses the source register. Edit records on the source worksheet.
A5: Total records | G5: Categories
A6: =COUNTA('Cost Baseline'!$A$5:$A$150) -> 0 | G6: =COUNTIF($D$11:$D$13,">0") -> 0
A9: Distribution by category
A11: Draft | D11: =COUNTIF('Cost Baseline'!$J$5:$J$150,"Draft") -> 0
A12: Approved | D12: =COUNTIF('Cost Baseline'!$J$5:$J$150,"Approved") -> 0
A13: Review | D13: =COUNTIF('Cost Baseline'!$J$5:$J$150,"Review") -> 0
